BEGIN:VCALENDAR
VERSION:2.0
PRODID:-//Duxitineris - ECPv4.4.2//NONSGML v1.0//EN
CALSCALE:GREGORIAN
METHOD:PUBLISH
X-WR-CALNAME:Duxitineris
X-ORIGINAL-URL:https://dux-aachen.de/dux
X-WR-CALDESC:Events for Duxitineris
BEGIN:VEVENT
DTSTART;TZID=Europe/Berlin:20260503T110000
DTEND;TZID=Europe/Berlin:20260503T123000
DTSTAMP:20260420T085235
CREATED:20260212T095102Z
LAST-MODIFIED:20260212T184627Z
UID:1178-1777806000-1777811400@dux-aachen.de
SUMMARY:Der jÃ¼dische Friedhof in Aachen
DESCRIPTION:Der jÃ¼dische Friedhof in Aachen\n\nRundgang\n\n \n\nIn der jÃ¼dischen Religion sind FriedhÃ¶fe als Orte des Erinnerns genauso bedeutend wie Synagogen als StÃ¤tten des Gebets. Der jÃ¼dische Friedhof an der LÃ¼tticher StraÃŸe entstand nach 1822. Im Laufe der Zeit hat sich das Erscheinungsbild der GrabstÃ¤tten gewandelt. Manche sind ein Beleg dafÃ¼r\, dass es um die Jahrhundertwende eine Epoche der Anpassung an christliche GebrÃ¤uche gab. Neben den kunsthistorischen Aspekten werden Biografien von Menschen beleuchtet\, die das Ã¶ffentliche Leben Aachens als Fabrikanten\, Bibliothekare\, Stadtverordnete oder Kunstgewerblerinnen geprÃ¤gt haben. MÃ¤nner tragen bitte eine Kopfbedeckung.\n\nEine Anmeldung ist bis zumÂ 29.04.2026 mÃ¶glich.\n\nAachen-Pass-ErmÃ¤ÃŸigung mÃ¶glich.\n\nTreffpunkt: LÃ¼tticher StraÃŸe (Bushaltestelle ASEAG)\, 52064 Aachen\n\nDies ist eine Veranstaltung mit derÂ vhs Aachen (Veranstaltung Nr. 261-04454).Â Bitte anmelden unter www.vhs-aachen.de oder Tel 0241/4792-111\n\n3. Mai 2026Â So 11:00â€“12:30 Uhr â€¢ 9\,â€“ /7\,â€“ â‚¬
URL:https://dux-aachen.de/dux/event/der-juedische-friedhof-in-aachen-2/
LOCATION:LÃ¼tticher StraÃŸe\, Aachen
ATTACH;FMTTYPE=image/jpeg:https://dux-aachen.de/dux/wp-content/uploads/2025/09/B-09-05-a-und-b-Speyer-Sophie-und-Leser-1-e1757580919440.jpg
END:VEVENT
BEGIN:VEVENT
DTSTART;TZID=Europe/Berlin:20260517T143000
DTEND;TZID=Europe/Berlin:20260517T163000
DTSTAMP:20260420T085235
CREATED:20260302T121150Z
LAST-MODIFIED:20260302T121525Z
UID:1238-1779028200-1779035400@dux-aachen.de
SUMMARY:Der historische Bergfriedhof in Heidelberg
DESCRIPTION:Geschichten zu den historischen DenkmÃ¤lern\nRundgang\n\n \n\nAlte FriedhÃ¶fe Ã¼ben hÃ¤ufig einen gewissen Reiz auf viele Menschen aus. Selbst auf Reisen besucht man die historischen BegrÃ¤bnisplÃ¤tze\, selbst wenn dort keine GrÃ¤ber von AngehÃ¶rigen zu finden sind. Neugierig bestaunt man die DenkmÃ¤ler\, die Inschriften\, die Skulpturen und Symbole. HÃ¤ufig bleiben viele Fragen unbeantwortet â€“ dabei mÃ¶chte man so gerne mehr erfahren.\nEinige Antworten auf diese Fragen gibt es auf diesem Rundgang entlang der GrabstÃ¤tten auf dem Bergfriedhof. Neben der Geschichte werden auch Informationen Ã¼ber PersÃ¶nlichkeiten aus Wissenschaft\, Unternehmertum und Kunst geteilt.\nSeit der Entstehung des Bergfriedhofs hat jede Generation ihre Trauer um den Verstorbenen in anderer Weise ausgedrÃ¼ckt. Dieser Besuch beleuchtet auch die kunstgeschichtlichen Entwicklungen vom Historismus der zweiten HÃ¤lfte des 19. Jahrhunderts bis zum Reformstil in den Jahren zwischen den beiden Weltkriegen.\n\nTreffpunkt:Â Haupteingang Rohrbacher StraÃŸe (Haltestelle Ã–PNV)\n\nDies ist eine VeranstaltungÂ  fÃ¼r dasÂ  Landschafts- und Forstamt\, Regiebetrieb FriedhÃ¶feÂ Heidelberg (Veranstaltung Nr. 0303).Â Bitte anmelden unterÂ  https://natuerlich.heidelberg.de\n\n17.05.2026Â So 14:30â€“16:30 Uhr â€¢ 8\,â€“ /4\,â€“ â‚¬
URL:https://dux-aachen.de/dux/event/der-historische-bergfriedhof-in-heidelberg-3/
LOCATION:Steigerweg\, Heidelberg
ATTACH;FMTTYPE=image/jpeg:https://dux-aachen.de/dux/wp-content/uploads/2026/03/DSC_4351.jpg
END:VEVENT
BEGIN:VEVENT
DTSTART;TZID=Europe/Berlin:20260529T190000
DTEND;TZID=Europe/Berlin:20260529T203000
DTSTAMP:20260420T085235
CREATED:20260302T124615Z
LAST-MODIFIED:20260302T125058Z
UID:1247-1780081200-1780086600@dux-aachen.de
SUMMARY:Vortrag: LÃ¤ngst vergangen? â€“ Allerlei Bauwerke in Kohlscheid
DESCRIPTION:Vortrag: LÃ¤ngst vergangen? â€“ Allerlei Bauwerke in Kohlscheid â€“ Virtueller Stadtspaziergang\nKennen Sie Herzogenrath-Kohlscheid? Sicher das\, werden Sie sagen und denken an die Kirche\, das Rathaus oder die inzwischen bis auf die StraÃŸennamen verschwundenen Kohle-Gruben. Aber die bauliche Gestalt der Gemeinde wird durch viel mehr geprÃ¤gt. Da sind die GeschÃ¤fte\, die WohnhÃ¤user und die DenkmÃ¤ler. Ob VerwaltungsgebÃ¤ude oder WohnhÃ¤user der Steiger\, an vielen StraÃŸen ist im Laufe der Jahrhunderte etwas entstanden\, was heute unverwechselbar das Erscheinungsbild von Herzogenrath-Kohlscheid ausmacht. Spannenderweise hÃ¶rt eine Bauphase niemals auf. Jede Generation fÃ¼gt etwas Neues hinzu. Das Non-plus-Ultra von heute ist Baugeschichte von Ãœbermorgen. Kommen Sie mit auf einen virtuellen Stadtspaziergang unter dem Motto: â€žKohlscheidâ€œ fÃ¼r Zugezogene und â€žUreinwohnerâ€œ!\n\nFreitag\, 29. Mai 2026 19:00-20:30 Uhr\n\nKostenlos\n\nHerzogenrath\, StadtbÃ¼cherei Herzogenrath\, Erkensstr. 2b
URL:https://dux-aachen.de/dux/event/vortrag-laengst-vergangen-allerlei-bauwerke-in-kohlscheid/
LOCATION:Deutschland
ATTACH;FMTTYPE=image/jpeg:https://dux-aachen.de/dux/wp-content/uploads/2026/03/DSCN7085.jpg
END:VEVENT
BEGIN:VEVENT
DTSTART;TZID=Europe/Berlin:20260530T120000
DTEND;TZID=Europe/Berlin:20260530T133000
DTSTAMP:20260420T085235
CREATED:20240916T100451Z
LAST-MODIFIED:20260302T125545Z
UID:1077-1780142400-1780147800@dux-aachen.de
SUMMARY:Aachener Stadtviertel: Am FuÃŸe des Lousbergs
DESCRIPTION:Rundgang\n\nAls die Stadt Aachen um 1900 erweitert werden sollte\, machte man sich nicht nur Gedanken um die Wohnsiedlungen\, sondern auch um die Villenbaugebiete. Am sÃ¼dlichen Hang des Lousbergs entstanden nach Ãœberlegungen\, die auf den bedeutenden Stadtplaner Joseph StÃ¼bben zurÃ¼ckgingen\, eine ganze Reihe von herrschaftlichen Villenbauten\, die von groÃŸen parkÃ¤hnlichen GÃ¤rten umgeben wurden.\nDie Liste der ehemaligen Bewohner*innen liest sich wie das â€žWho is whoâ€œ der Stadt. TÃ¼r an TÃ¼r mit den Fabrikanten und Kaufleuten lebte zeitweilig eine belgische Prinzessin. Der Rundgang fÃ¼hrt in eine lÃ¤ngst vergessene Zeit.\n\nDies ist eine Veranstaltung mit derÂ vhs Aachen (Veranstaltung Nr. 261-10274).Â Bitte anmelden unter www.vhs-aachen.de oder Tel 0241/4792-111\n\n30. Mai 2026\, Sa 12:00â€“13:30 Uhr â€¢ 9\,â€“ /7\,â€“ â‚¬\n\nTreffpunkt:Â Ludwigsallee/KupferstraÃŸe
URL:https://dux-aachen.de/dux/event/aachener-stadtviertel-am-fusse-des-lousbergs/
ATTACH;FMTTYPE=image/jpeg:https://dux-aachen.de/dux/wp-content/uploads/2024/09/2006-10-22-164.jpg
END:VEVENT
BEGIN:VEVENT
DTSTART;TZID=Europe/Berlin:20260530T150000
DTEND;TZID=Europe/Berlin:20260530T163000
DTSTAMP:20260420T085235
CREATED:20170131T161405Z
LAST-MODIFIED:20260302T130035Z
UID:569-1780153200-1780158600@dux-aachen.de
SUMMARY:Wege gegen das Vergessen - Zwischen Oppenhoffallee und TheaterstraÃŸe
DESCRIPTION:Rundgang vhs unterwegs\n\nDie Wege gegen das Vergessen gehen auf ein Projekt der Volkshochschule Aachen zurÃ¼ck\, in dem sich 1994 haben BÃ¼rger*innen Gedanken um die Gestaltung eines dezentralen Mahnmals gemacht haben. Schon von Beginn an sollten deshalb nicht nur Tafeln formuliert und aufgestellt werden\, sondern auch bei RundgÃ¤ngen vertiefende Inhalte angeboten werden. Da nicht alle 43 Tafeln bei einem Rundgang behandelt werden kÃ¶nnen\, sollen bei diesem Rundgang die Tafeln auf dem Weg von der Oppenhoffallee bis zur TheaterstraÃŸe das Thema sein. Angesprochen werden MachtÃ¼bergabe\, Zwangsenteignungen\, Jugend im Nationalsozialismus und die Kriegszeit in Aachen.\n\nDies ist eine Veranstaltung mit derÂ vhs Aachen (Veranstaltung Nr. 261-04458).Â Bitte anmelden unter www.vhs-aachen.de oder Tel 0241/4792-111\n\n30. Mai 2026\,Â Sa 15:00â€“16:30 Uhr â€¢ 9\,â€“ /7\,â€“ â‚¬\n\nTreffpunkt:Â Oppenhoffallee\, Denkmal fÃ¼r Franz Oppenhoff
URL:https://dux-aachen.de/dux/event/wege-gegen-das-vergessen/
LOCATION:PontstraÃŸe beim Ponttor\, Aachen\, 52062
ATTACH;FMTTYPE=image/jpeg:https://dux-aachen.de/dux/wp-content/uploads/2017/01/2004-12-12-011.jpg
END:VEVENT
BEGIN:VEVENT
DTSTART;TZID=Europe/Berlin:20260531T110000
DTEND;TZID=Europe/Berlin:20260531T123000
DTSTAMP:20260420T085235
CREATED:20260212T184634Z
LAST-MODIFIED:20260212T184753Z
UID:1224-1780225200-1780230600@dux-aachen.de
SUMMARY:Der jÃ¼dische Friedhof in Aachen
DESCRIPTION:Der jÃ¼dische Friedhof in Aachen\n\nRundgang\n\n \n\nIn der jÃ¼dischen Religion sind FriedhÃ¶fe als Orte des Erinnerns genauso bedeutend wie Synagogen als StÃ¤tten des Gebets. Der jÃ¼dische Friedhof an der LÃ¼tticher StraÃŸe entstand nach 1822. Im Laufe der Zeit hat sich das Erscheinungsbild der GrabstÃ¤tten gewandelt. Manche sind ein Beleg dafÃ¼r\, dass es um die Jahrhundertwende eine Epoche der Anpassung an christliche GebrÃ¤uche gab. Neben den kunsthistorischen Aspekten werden Biografien von Menschen beleuchtet\, die das Ã¶ffentliche Leben Aachens als Fabrikanten\, Bibliothekare\, Stadtverordnete oder Kunstgewerblerinnen geprÃ¤gt haben. MÃ¤nner tragen bitte eine Kopfbedeckung.\n\nEine Anmeldung ist bis zumÂ 29.04.2026 mÃ¶glich.\n\nAachen-Pass-ErmÃ¤ÃŸigung mÃ¶glich.\n\nTreffpunkt: LÃ¼tticher StraÃŸe (Bushaltestelle ASEAG)\, 52064 Aachen\n\nDies ist eine Veranstaltung mit derÂ vhs Aachen (Veranstaltung Nr. 261-04454).Â Bitte anmelden unter www.vhs-aachen.de oder Tel 0241/4792-111\n\n31. Mai 2026Â So 11:00â€“12:30 Uhr â€¢ 9\,â€“ /7\,â€“ â‚¬
URL:https://dux-aachen.de/dux/event/der-juedische-friedhof-in-aachen-3/
LOCATION:LÃ¼tticher StraÃŸe\, Aachen
ATTACH;FMTTYPE=image/jpeg:https://dux-aachen.de/dux/wp-content/uploads/2015/11/JÃ¼d_Friedhof_LÃ¼tticherstr_2.jpg
END:VEVENT
BEGIN:VEVENT
DTSTART;TZID=Europe/Berlin:20260531T150000
DTEND;TZID=Europe/Berlin:20260531T163000
DTSTAMP:20260420T085235
CREATED:20230511T105106Z
LAST-MODIFIED:20260302T130431Z
UID:980-1780239600-1780245000@dux-aachen.de
SUMMARY:Spuren Aachener Geschichte: Der Ostfriedhof
DESCRIPTION:Rundgang\n\nAls die StÃ¤dte im ausgehenden 18. Jahrhundert immer grÃ¶ÃŸer wurden\, verbot man Beisetzungen in der Innenstadt. Damals wurde der heute noch bestehende Ostfriedhof angelegt und 1803 eingesegnet. Heute steht die Anlage unter Denkmalschutz. Viele der erhaltenen Grabsteine zeigen eindrucksvoll den Wandel vom Umgang mit dem Tod. In jeder Stilepoche entstanden einzigartige GrabdenkmÃ¤ler. Besonders auffallend sind die im frÃ¼hen 20. Jahrhundert entstandenen Anlagen\, die ganz eindeutig von den Vorstellungen der Auftraggeber*innen nach ReprÃ¤sentation bestimmt werden. Der Rundgang bietet jedoch nicht nur kunst- und kulturhistorische Informationen\, sondern ist eine gute Gelegenheit\, die Stadtgeschichte neu zu entdecken.\n\nDies ist eine Veranstaltung mit derÂ vhs Aachen (Veranstaltung Nr. 261-10276).Â Bitte anmelden unter www.vhs-aachen.de oder Tel 0241/4792-111\n\n31. Mai 2026 So 15:00â€“16:30 Uhr â€¢ 7\,50 /6\,â€“ â‚¬\n\nTreffpunkt: Haupteingang am Adalbertsteinweg
URL:https://dux-aachen.de/dux/event/spuren-aachener-geschichte-der-ostfriedhof/
LOCATION:Adalbersteinweg\, Aachen
ATTACH;FMTTYPE=image/jpeg:https://dux-aachen.de/dux/wp-content/uploads/2017/01/2017-05-23-Priester.jpg
END:VEVENT
BEGIN:VEVENT
DTSTART;TZID=Europe/Berlin:20260703T160000
DTEND;TZID=Europe/Berlin:20260703T173000
DTSTAMP:20260420T085235
CREATED:20231109T150422Z
LAST-MODIFIED:20260302T131316Z
UID:1011-1783094400-1783099800@dux-aachen.de
SUMMARY:Alsdorf - die Stadt der TÃ¼rme
DESCRIPTION:Rundgang\n\nÃœberall stÃ¶ÃŸt man beim Rundgang durch die Stadt auf TÃ¼rme. Der mÃ¤chtige Turm der Alsdorfer Burg berichtet von feudalen Zeiten mit Grafen. Der Wasserturm beim Kinocenter und der FÃ¶rderturm hingegen sind Relikte der Epoche des Bergbaus. Tonnenweise wurde das "Schwarze Gold" aus den Tiefen der Erde herausgeholt und auf die Waggons der Eisenbahn verladen. Die KirchentÃ¼rme runden schlieÃŸlich das Bild der Stadt ab. Bei diesem Stadtrundgang gibt es noch viele weitere Relikte aus der Vergangenheit der Stadt zu sehen.\n\nZur Anmeldung rufen Sie bitte in der vhs Nordkreis Aachen\, 02406/666411 oder 02406/666414 an.\n\nKurs 40001\n\nFreitag\, 3. Juli 2026; 16:00 bis 17:30 Uhr\n\nTreffpunkt\, Vor dem Haupteingang der Alsdorfer Burg
URL:https://dux-aachen.de/dux/event/alsdorf-die-stadt-der-tuerme/
ATTACH;FMTTYPE=image/jpeg:https://dux-aachen.de/dux/wp-content/uploads/2023/11/2007-02-04-102.jpg
END:VEVENT
BEGIN:VEVENT
DTSTART;TZID=Europe/Berlin:20260704T120000
DTEND;TZID=Europe/Berlin:20260704T133000
DTSTAMP:20260420T085235
CREATED:20240916T095956Z
LAST-MODIFIED:20260302T131715Z
UID:1072-1783166400-1783171800@dux-aachen.de
SUMMARY:Aachener Stadtviertel: Beim Wehrhaften Schmied um die Ecke
DESCRIPTION:Rundgang\n\nAuf dem ersten Teil der alten JakobstraÃŸe\, von der Kreuzung an der KockerellstraÃŸe bis zum LÃ¶hergraben\, gibt es noch manch bedeutendes Beispiel aus der Aachener Baugeschichte. Die Beispiele entstanden\, wie der â€žWylresche Hofâ€œ noch in der Couvenzeit\, oder wie Haus â€žEijene Kaiser Karlâ€œ im darauffolgenden Klassizismus. Daneben sind die Beispiele aus dem 19. Jahrhundert genauso wie aus der Zeit des Wiederaufbaus von Interesse.\nWichtigster Bau ist sicherlich die ehemalige\, dem Hl. Paul geweihte Kirche der Dominikaner. Sie hatte an einer der wichtigsten Verkehrsadern der Stadt einen bedeutenden Standort. Ihre gotischen MaÃŸwerke lassen an das Mittelalter denken\, auch wenn sie nach den ZerstÃ¶rungen des Weltkriegs aufwendig\, quasi aus dem Nichts heraus\, wieder geschaffen werden mussten.\n\n \n\nDies ist eine Veranstaltung mit derÂ vhs Aachen (Veranstaltung Nr. 261-10280).Â Bitte anmelden unter www.vhs-aachen.de oder Tel 0241/4792-111\n\n4. Juli 2026\, Sa 12:00â€“13:30 Uhr â€¢ 9\,â€“ /7\,â€“ â‚¬\n\nTreffpunkt:Â JakobstraÃŸe. Ecke KockerellstraÃŸe\n\n 
URL:https://dux-aachen.de/dux/event/aachener-stadtviertel-beim-wehrhaften-schmied-um-die-ecke/
LOCATION:Deutschland
ATTACH;FMTTYPE=image/jpeg:https://dux-aachen.de/dux/wp-content/uploads/2024/09/JakobstraÃŸe-2-Eijene-Kaiser-Karl-1.jpg
END:VEVENT
BEGIN:VEVENT
DTSTART;TZID=Europe/Berlin:20260704T150000
DTEND;TZID=Europe/Berlin:20260704T163000
DTSTAMP:20260420T085235
CREATED:20250911T091705Z
LAST-MODIFIED:20260302T132037Z
UID:1194-1783177200-1783182600@dux-aachen.de
SUMMARY:Stolpersteine und jÃ¼dische Spuren in Aachen
DESCRIPTION:Rundgang vhs unterwegs\n\nAuch mehr als 85 Jahre nach der Pogromnacht 1938 lassen sich\, beim genauen Hinschauen\, noch Spuren entdecken. HÃ¤user und StraÃŸen\, Fabriken und nicht zuletzt die Stolpersteine erinnern an Menschen\, die hier einst gelebt haben und sich als Aachener*innen gefÃ¼hlt haben. Mitten in der Innenstadt\, vor GeschÃ¤fts- und privaten WohnhÃ¤usern finden sich seit 2008 zahlreiche Stolpersteine\, die zur Erinnerung an die JÃ¼dinnen und Juden verlegt worden sind. Ihren Biografien wird auf diesem Rundgang gemeinsam nachgegangen.\n\nDies ist eine Veranstaltung mit derÂ vhs Aachen (Veranstaltung Nr. 261-04463).Â Bitte anmelden unter www.vhs-aachen.de oder Tel 0241/4792-111\n\n4. Juli 2026\, Sa 15:00â€“16:30 Uhr â€¢ 9\,â€“ /7\,â€“ â‚¬\n\nTreffpunkt:Â Holzgraben\, Am Glaskubus
URL:https://dux-aachen.de/dux/event/stolpersteine-und-juedische-spuren-in-aachen/
ATTACH;FMTTYPE=image/jpeg:https://dux-aachen.de/dux/wp-content/uploads/2025/09/DSCN6866.jpg
END:VEVENT
BEGIN:VEVENT
DTSTART;TZID=Europe/Berlin:20260705T120000
DTEND;TZID=Europe/Berlin:20260705T133000
DTSTAMP:20260420T085235
CREATED:20170802T102708Z
LAST-MODIFIED:20260302T130652Z
UID:647-1783252800-1783258200@dux-aachen.de
SUMMARY:Spuren Aachener Geschichte - Der HeiÃŸbergfriedhof in Burtscheid
DESCRIPTION:Nachdem der Kirchhof bei der Kirche St. Michael vollkommen belegt war\, beschloss der Gemeinderat des damals noch selbstÃ¤ndigen Burtscheid\, einen neuen Friedhof an dem vom Ortskern nach Lichtenbusch fÃ¼hrenden Weg anzulegen. Von Anfang an nutzten ihn Katholiken und Protestanten fÃ¼r die Beisetzung ihrer Toten. Die teilweise Ã¼ber 100 Jahre alten GrabdenkmÃ¤ler zeigen Burtscheids Zeiten als blÃ¼hender Textilstadt. Familiennamen erinnern an BÃ¼rgermeister\, Ehrenbranddirektoren und natÃ¼rlich auch an die Tuch- und Nadelfabrikanten.\n\nIhre Geschichte wird ergÃ¤nzt mit Hinweisen zu ihren WohnhÃ¤usern und Fabriken. ErklÃ¤rungen zur stilistischen Gestaltung der GrÃ¤ber sowie ErlÃ¤uterungen der Details runden den Rundgang ab.\n\nBitte anmelden bei vhs Aachen\, Kurs-Nummer 241-10380 (www.vhs-aachen.de)\n\nTreffpunkt: Aachen\, am Haupteingang des HeiÃŸbergfriedhofes\n\n 
URL:https://dux-aachen.de/dux/event/der-heissbergfriedhof-in-burtscheid/
LOCATION:HeiÃŸbergfriedhof\, Aachen\, 52066\, Deutschland
ATTACH;FMTTYPE=image/jpeg:https://dux-aachen.de/dux/wp-content/uploads/2016/03/01252-Heissbergfriedhof-b.jpg
END:VEVENT
BEGIN:VEVENT
DTSTART;TZID=Europe/Berlin:20260705T150000
DTEND;TZID=Europe/Berlin:20260705T163000
DTSTAMP:20260420T085235
CREATED:20260302T133154Z
LAST-MODIFIED:20260302T133544Z
UID:1269-1783263600-1783269000@dux-aachen.de
SUMMARY:Entlang des ehemaligen Aachener Mauerrings II
DESCRIPTION:Rundgang\n\nWie Jahresringe legen sich groÃŸe StraÃŸenzÃ¼ge rund um Aachen. Hier standen im Mittelalter die Aachener Stadtmauern. Ihr Bau wurde in der Mitte des 12. Jahrhunderts begonnen. Schon rund 100 Jahre spÃ¤ter musste ein zweites Sicherungssystem angelegt werden.\n\nVon dieser Stadtmauer\, die einst eine LÃ¤nge von 5\,5 km hatte\, gibt es heute noch Interessantes zu berichten und manche Relikte zu betrachten.\n\nDer Rundgang verfolgt den zweiten Abschnitt vom Ponttor bis zum Langen Turm und wir auch die ehemalige Barbarossamauer berÃ¼hren.\n\n \n\nDies ist eine Veranstaltung mitÂ dem Aachener Geschichtsverein\n\n5. Juli 2026\, So 15:00â€“16:30 Uhr\n\nTreffpunkt: Ponttor\, Stadtseite
URL:https://dux-aachen.de/dux/event/aachener-stadtviertel-beim-wehrhaften-schmied-um-die-ecke-copy/
LOCATION:Deutschland
ATTACH;FMTTYPE=image/jpeg:https://dux-aachen.de/dux/wp-content/uploads/2026/03/2004-07-02-060.jpg
ORGANIZER;CN="Aachener%20Geschichtsverein":MAILTO:holger.dux@mail.aachen.de
END:VEVENT
BEGIN:VEVENT
DTSTART;TZID=Europe/Berlin:20260706T160000
DTEND;TZID=Europe/Berlin:20260706T173000
DTSTAMP:20260420T085235
CREATED:20260302T132153Z
LAST-MODIFIED:20260302T133042Z
UID:1264-1783353600-1783359000@dux-aachen.de
SUMMARY:WeiÃŸt du noch? Hier trinkt man KÃ¶ppelchen. Da werden Erinnerungen wach
DESCRIPTION:Lesung: Hier trinkt man KÃ¶ppelchen\nKennen Sie Herzogenrath-Kohlscheid? Sicher das\, werden Sie sagen und denken an die Kirche\, das Rathaus oder die inzwischen bis auf die StraÃŸennamen verschwundenen Kohle-Gruben. Aber die bauliche Gestalt der Gemeinde wird durch viel mehr geprÃ¤gt. Da sind die GeschÃ¤fte\, die WohnhÃ¤user und die DenkmÃ¤ler. Ob VerwaltungsgebÃ¤ude oder WohnhÃ¤user der Steiger\, an vielen StraÃŸen ist im Laufe der Jahrhunderte etwas entstanden\, was heute unverwechselbar das Erscheinungsbild von Herzogenrath-Kohlscheid ausmacht. Spannenderweise hÃ¶rt eine Bauphase niemals auf. Jede Generation fÃ¼gt etwas Neues hinzu. Das Non-plus-Ultra von heute ist Baugeschichte von Ãœbermorgen. Kommen Sie mit auf einen virtuellen Stadtspaziergang unter dem Motto: â€žKohlscheidâ€œ fÃ¼r Zugezogene und â€žUreinwohnerâ€œ!\n\nDie Lesung ist eine Veranstaltung der KÃ–B Katholische Ã–ffentliche Bibliothek St. Katharina Kohlscheid\n\nMontag\, 6. JuliÂ 2026 16:00-17:30 Uhr\n\nKostenlos\nKatharinahaus\, Markt 5\,Â 52134Â Herzogenrath
URL:https://dux-aachen.de/dux/event/lesung-hier-trinkt-man-koeppelchen/
LOCATION:Deutschland
ATTACH;FMTTYPE=image/jpeg:https://dux-aachen.de/dux/wp-content/uploads/2026/03/P16_1115_704.jpg
END:VEVENT
BEGIN:VEVENT
DTSTART;TZID=Europe/Berlin:20260707T190000
DTEND;TZID=Europe/Berlin:20260707T203000
DTSTAMP:20260420T085235
CREATED:20250911T095316Z
LAST-MODIFIED:20260302T133132Z
UID:1213-1783450800-1783456200@dux-aachen.de
SUMMARY:Lesung: Aachen - WeiÃŸt du noch? Die 70er Jahre in Aachen
DESCRIPTION:Lesung: Aachen - WeiÃŸt du noch? Open Air und "oben ohne" ... Rockmusik und sÃ¼ÃŸ DÃ¼fte. Geschichten und Anekdoten aus dem Aachen der 70er Jahre\nDie 1970er sind das Jahrzehnt der Pril Blumen\, der autofreien Sonntage und der Supermarkt-Ketten. Die einen laufen im Flower-Power-Hippie-Look und die anderem im olivgrÃ¼nen Parka durch die Stadt. Junge Frauen begeistern sich fÃ¼r Mini-\, Midi- oder MaxirÃ¶cke. Bei der Bundeswehr dÃ¼rfen laut dem damaligen Verteidigungsminister Helmut Schmitt lange Haare getragen werden â€“ aber nur mit einem Haarnetz. Es werden der Bushof\, Schulzentren und das Klinikum gebaut. Erstmals gibt es FlohmÃ¤rkte\, ganz im Sinne der â€žNostalgiewelleâ€œ. Ãœber all das und noch viel mehr berichtet die Lesung mit einigen beispielhaften Bildern. In seinem Buch â€žAachen â€“ WeiÃŸt du noch? Open Air und 'oben ohne' â€¦ Rockmusik und sÃ¼ÃŸe DÃ¼fteâ€œ entfÃ¼hrt Dr. Holger A. Dux in das Aachen der 1970er Jahre â€“ eine Zeit des Aufbruchs\, der Musik\, der Proteste und der unbeschwerten Jugend. Ein Abend zum Erinnern und nachdenken.\n\nDienstag\, 7. Juli 2026\, 19:00-20:30 Uhr\n\nKostenlos\n\nTreffpunkt: WÃ¼rselen\, Altes Rathaus\, Kaiserstr. 36\, Saal\nKaiserstraÃŸe 36\n52146 WÃ¼rselen
URL:https://dux-aachen.de/dux/event/lesung-aachen-weisst-du-noch-die-70er-jahre-in-aachen/
LOCATION:Deutschland
ATTACH;FMTTYPE=image/jpeg:https://dux-aachen.de/dux/wp-content/uploads/2025/09/1970-Pop-Festival-6-Q.-2086-S.-66.jpg
END:VEVENT
BEGIN:VEVENT
DTSTART;TZID=Europe/Berlin:20261018T143000
DTEND;TZID=Europe/Berlin:20261018T163000
DTSTAMP:20260420T085235
CREATED:20260302T120931Z
LAST-MODIFIED:20260302T121100Z
UID:1235-1792333800-1792341000@dux-aachen.de
SUMMARY:Der historische Bergfriedhof in Heidelberg
DESCRIPTION:Weitere Geschichten zu den historischen DenkmÃ¤lern\nRundgang\n\n \n\nDie Geschichte des Heidelberger Bergfriedhofs reicht bis ins Jahr 1844 zurÃ¼ck. Seither wurde die BegrÃ¤bnisstÃ¤tte immer wieder erweitert\, bis sie im Jahr 1962 ihre heutige Ausdehnung erreichte. Aber auch die GrabstÃ¤tten selbst unterlagen einem steten Wandel. In jeder Epoche fand die Trauer- und Bestattungskultur ihren eigenen Ausdruck. So finden sich Skulpturen aus Stein gehauen oder in Bronze gegossen sowie Stile von der mittelalterlichen Romanik\, des Klassizismus bis hin zum Jugendstil zum Ende des 19. Jahrhunderts.\nNeben Hinweisen zur Kunst- und Kulturgeschichte gibt die FÃ¼hrung auch Einblicke in die Familiengeschichten von auf dem Friedhof ruhenden PersÃ¶nlichkeiten.\n\nTreffpunkt: Eingang Steigerweg\n\nDies ist eine VeranstaltungÂ  fÃ¼r dasÂ  Landschafts- und Forstamt\, Regiebetrieb FriedhÃ¶feÂ Heidelberg (Veranstaltung Nr. 0303).Â Bitte anmelden unterÂ  https://natuerlich.heidelberg.de\n\n18.10.2026Â So 14:30â€“16:30 Uhr â€¢ 8\,â€“ /4\,â€“ â‚¬
URL:https://dux-aachen.de/dux/event/der-historische-bergfriedhof-in-heidelberg-2/
LOCATION:Steigerweg\, Heidelberg
ATTACH;FMTTYPE=image/jpeg:https://dux-aachen.de/dux/wp-content/uploads/2026/03/20240827_153255-e1772453343540.jpg
END:VEVENT
BEGIN:VEVENT
DTSTART;TZID=Europe/Berlin:20261115T143000
DTEND;TZID=Europe/Berlin:20261115T163000
DTSTAMP:20260420T085235
CREATED:20260302T121542Z
LAST-MODIFIED:20260302T121637Z
UID:1242-1794753000-1794760200@dux-aachen.de
SUMMARY:Der historische Bergfriedhof in Heidelberg
DESCRIPTION:Geschichten zu den historischen DenkmÃ¤lern\nRundgang\n\n \n\nAlte FriedhÃ¶fe Ã¼ben hÃ¤ufig einen gewissen Reiz auf viele Menschen aus. Selbst auf Reisen besucht man die historischen BegrÃ¤bnisplÃ¤tze\, selbst wenn dort keine GrÃ¤ber von AngehÃ¶rigen zu finden sind. Neugierig bestaunt man die DenkmÃ¤ler\, die Inschriften\, die Skulpturen und Symbole. HÃ¤ufig bleiben viele Fragen unbeantwortet â€“ dabei mÃ¶chte man so gerne mehr erfahren.\nEinige Antworten auf diese Fragen gibt es auf diesem Rundgang entlang der GrabstÃ¤tten auf dem Bergfriedhof. Neben der Geschichte werden auch Informationen Ã¼ber PersÃ¶nlichkeiten aus Wissenschaft\, Unternehmertum und Kunst geteilt.\nSeit der Entstehung des Bergfriedhofs hat jede Generation ihre Trauer um den Verstorbenen in anderer Weise ausgedrÃ¼ckt. Dieser Besuch beleuchtet auch die kunstgeschichtlichen Entwicklungen vom Historismus der zweiten HÃ¤lfte des 19. Jahrhunderts bis zum Reformstil in den Jahren zwischen den beiden Weltkriegen.\n\nTreffpunkt:Â Haupteingang Rohrbacher StraÃŸe (Haltestelle Ã–PNV)\n\nDies ist eine VeranstaltungÂ  fÃ¼r dasÂ  Landschafts- und Forstamt\, Regiebetrieb FriedhÃ¶feÂ Heidelberg (Veranstaltung Nr. 0303).Â Bitte anmelden unterÂ  https://natuerlich.heidelberg.de\n\n15.11.2026Â So 14:30â€“16:30 Uhr â€¢ 8\,â€“ /4\,â€“ â‚¬
URL:https://dux-aachen.de/dux/event/der-historische-bergfriedhof-in-heidelberg-4/
LOCATION:Steigerweg\, Heidelberg
ATTACH;FMTTYPE=image/jpeg:https://dux-aachen.de/dux/wp-content/uploads/2026/03/DSC_4351.jpg
END:VEVENT
END:VCALENDAR