BEGIN:VCALENDAR
VERSION:2.0
PRODID:-//Duxitineris - ECPv4.4.2//NONSGML v1.0//EN
CALSCALE:GREGORIAN
METHOD:PUBLISH
X-WR-CALNAME:Duxitineris
X-ORIGINAL-URL:https://dux-aachen.de/dux
X-WR-CALDESC:Events for Duxitineris
BEGIN:VEVENT
DTSTART;TZID=Europe/Berlin:20260706T160000
DTEND;TZID=Europe/Berlin:20260706T173000
DTSTAMP:20260423T121053
CREATED:20260302T132153Z
LAST-MODIFIED:20260302T133042Z
UID:1264-1783353600-1783359000@dux-aachen.de
SUMMARY:Weißt du noch? Hier trinkt man Köppelchen. Da werden Erinnerungen wach
DESCRIPTION:Lesung: Hier trinkt man Köppelchen\nKennen Sie Herzogenrath-Kohlscheid? Sicher das\, werden Sie sagen und denken an die Kirche\, das Rathaus oder die inzwischen bis auf die Straßennamen verschwundenen Kohle-Gruben. Aber die bauliche Gestalt der Gemeinde wird durch viel mehr geprägt. Da sind die Geschäfte\, die Wohnhäuser und die Denkmäler. Ob Verwaltungsgebäude oder Wohnhäuser der Steiger\, an vielen Straßen ist im Laufe der Jahrhunderte etwas entstanden\, was heute unverwechselbar das Erscheinungsbild von Herzogenrath-Kohlscheid ausmacht. Spannenderweise hört eine Bauphase niemals auf. Jede Generation fügt etwas Neues hinzu. Das Non-plus-Ultra von heute ist Baugeschichte von Übermorgen. Kommen Sie mit auf einen virtuellen Stadtspaziergang unter dem Motto: „Kohlscheid“ für Zugezogene und „Ureinwohner“!\n\nDie Lesung ist eine Veranstaltung der KÖB Katholische Öffentliche Bibliothek St. Katharina Kohlscheid\n\nMontag\, 6. Juli 2026 16:00-17:30 Uhr\n\nKostenlos\nKatharinahaus\, Markt 5\, 52134 Herzogenrath
URL:https://dux-aachen.de/dux/event/lesung-hier-trinkt-man-koeppelchen/
LOCATION:Deutschland
ATTACH;FMTTYPE=image/jpeg:https://dux-aachen.de/dux/wp-content/uploads/2026/03/P16_1115_704.jpg
END:VEVENT
END:VCALENDAR