BEGIN:VCALENDAR
VERSION:2.0
PRODID:-//Duxitineris - ECPv4.4.2//NONSGML v1.0//EN
CALSCALE:GREGORIAN
METHOD:PUBLISH
X-WR-CALNAME:Duxitineris
X-ORIGINAL-URL:https://dux-aachen.de/dux
X-WR-CALDESC:Events for Duxitineris
BEGIN:VEVENT
DTSTART;TZID=Europe/Berlin:20260704T120000
DTEND;TZID=Europe/Berlin:20260704T133000
DTSTAMP:20260419T124253
CREATED:20240916T095956Z
LAST-MODIFIED:20260302T131715Z
UID:1072-1783166400-1783171800@dux-aachen.de
SUMMARY:Aachener Stadtviertel: Beim Wehrhaften Schmied um die Ecke
DESCRIPTION:Rundgang\n\nAuf dem ersten Teil der alten JakobstraÃŸe\, von der Kreuzung an der KockerellstraÃŸe bis zum LÃ¶hergraben\, gibt es noch manch bedeutendes Beispiel aus der Aachener Baugeschichte. Die Beispiele entstanden\, wie der â€žWylresche Hofâ€œ noch in der Couvenzeit\, oder wie Haus â€žEijene Kaiser Karlâ€œ im darauffolgenden Klassizismus. Daneben sind die Beispiele aus dem 19. Jahrhundert genauso wie aus der Zeit des Wiederaufbaus von Interesse.\nWichtigster Bau ist sicherlich die ehemalige\, dem Hl. Paul geweihte Kirche der Dominikaner. Sie hatte an einer der wichtigsten Verkehrsadern der Stadt einen bedeutenden Standort. Ihre gotischen MaÃŸwerke lassen an das Mittelalter denken\, auch wenn sie nach den ZerstÃ¶rungen des Weltkriegs aufwendig\, quasi aus dem Nichts heraus\, wieder geschaffen werden mussten.\n\n \n\nDies ist eine Veranstaltung mit derÂ vhs Aachen (Veranstaltung Nr. 261-10280).Â Bitte anmelden unter www.vhs-aachen.de oder Tel 0241/4792-111\n\n4. Juli 2026\, Sa 12:00â€“13:30 Uhr â€¢ 9\,â€“ /7\,â€“ â‚¬\n\nTreffpunkt:Â JakobstraÃŸe. Ecke KockerellstraÃŸe\n\n 
URL:https://dux-aachen.de/dux/event/aachener-stadtviertel-beim-wehrhaften-schmied-um-die-ecke/
LOCATION:Deutschland
ATTACH;FMTTYPE=image/jpeg:https://dux-aachen.de/dux/wp-content/uploads/2024/09/JakobstraÃŸe-2-Eijene-Kaiser-Karl-1.jpg
END:VEVENT
END:VCALENDAR