BEGIN:VCALENDAR
VERSION:2.0
PRODID:-//Duxitineris - ECPv4.4.2//NONSGML v1.0//EN
CALSCALE:GREGORIAN
METHOD:PUBLISH
X-WR-CALNAME:Duxitineris
X-ORIGINAL-URL:https://dux-aachen.de/dux
X-WR-CALDESC:Events for Duxitineris
BEGIN:VEVENT
DTSTART;TZID=Europe/Berlin:20260530T120000
DTEND;TZID=Europe/Berlin:20260530T133000
DTSTAMP:20260421T104423
CREATED:20240916T100451Z
LAST-MODIFIED:20260302T125545Z
UID:1077-1780142400-1780147800@dux-aachen.de
SUMMARY:Aachener Stadtviertel: Am Fuße des Lousbergs
DESCRIPTION:Rundgang\n\nAls die Stadt Aachen um 1900 erweitert werden sollte\, machte man sich nicht nur Gedanken um die Wohnsiedlungen\, sondern auch um die Villenbaugebiete. Am südlichen Hang des Lousbergs entstanden nach Überlegungen\, die auf den bedeutenden Stadtplaner Joseph Stübben zurückgingen\, eine ganze Reihe von herrschaftlichen Villenbauten\, die von großen parkähnlichen Gärten umgeben wurden.\nDie Liste der ehemaligen Bewohner*innen liest sich wie das „Who is who“ der Stadt. Tür an Tür mit den Fabrikanten und Kaufleuten lebte zeitweilig eine belgische Prinzessin. Der Rundgang führt in eine längst vergessene Zeit.\n\nDies ist eine Veranstaltung mit der vhs Aachen (Veranstaltung Nr. 261-10274). Bitte anmelden unter www.vhs-aachen.de oder Tel 0241/4792-111\n\n30. Mai 2026\, Sa 12:00–13:30 Uhr • 9\,– /7\,– €\n\nTreffpunkt: Ludwigsallee/Kupferstraße
URL:https://dux-aachen.de/dux/event/aachener-stadtviertel-am-fusse-des-lousbergs/
ATTACH;FMTTYPE=image/jpeg:https://dux-aachen.de/dux/wp-content/uploads/2024/09/2006-10-22-164.jpg
END:VEVENT
END:VCALENDAR